BEGIN:VCALENDAR
VERSION:2.0
PRODID:-//tfcanglican.org//EN
CALSCALE:GREGORIAN
METHOD:PUBLISH
BEGIN:VEVENT
UID:17737@tfcanglican.org
DTSTAMP:20260425T211215Z
DTSTART;TZID=America/New_York:20260322T170000
DTEND;TZID=America/New_York:20260329T190000
SUMMARY:Parents&#8217\; Seminar
LOCATION:Lower Narthex (Church Building)
DESCRIPTION:Calling all parents and grandparents!\n\n\n\nThe TFCA Youth Ministry and Children &amp\; Family Ministry are excited to offer two sessions this March to dig into parenting topics together.\n\n\n\nOn March 22\, Jedd Medefind\, President of the Christian Alliance for Orphans and father of five\, will share with us on the topic of Parenting &amp\; Technology.\n\n\n\nOn March 29\, Jedd’s wife\, Rachel\, will join and together they will address Parenting with Authority--holding together empathy\, warmth\, and kindness with firm boundaries\, consistency\, and caring discipline. The sessions will be held in the Narthex of the church building from 5:00 to 7:00 pm. Dinner will be served.\n\n\n\nThere is no cost to attend\, but please RSVP at this registration link to help us plan for food.&nbsp\;
URL:https://tfcanglican.org/events/parents-seminar/
END:VEVENT
END:VCALENDAR
