BEGIN:VCALENDAR
VERSION:2.0
PRODID:-//tfcanglican.org//EN
CALSCALE:GREGORIAN
METHOD:PUBLISH
BEGIN:VEVENT
UID:17749@tfcanglican.org
DTSTAMP:20260425T210242Z
DTSTART;TZID=America/New_York:20260422T100000
DTEND;TZID=America/New_York:20260422T120000
SUMMARY:Virginia March for Life
LOCATION:Virginia State Capitol
DESCRIPTION:An estimated 39\,000 children die in Virginia each year by abortion.&nbsp\; This violence has been normalized and is a window into a culture that is deeply broken.\n\n\n\nThe Virginia March for Life is an opportunity to honor life and to call for protection for both the preborn and their mothers.&nbsp\; Please join our TFCA group!&nbsp\;\n\n\n\nTransportation Options:\n\n\n\n\nCarpool with others from TFCA\n\n\n\nRegistered bus options here.&nbsp\; The Virginia Family Foundation is providing a bus ("Speak Up Fairfax") which several of us took last year.\n\n\n\n\nNote: Please contact Emily at emily@giacomini.us or 914-960-4123 to let us know you are coming\, so we can travel and/or meet up together in Richmond. \n\n\n\nWhen the March concludes\, you can stay for ENGAGE Training at 12:30pm to equip you to engage with others on the Abortion Amendment. Lunch is provided\, but seating is limited - Register here.\n\n\n\nThis year's March for Life is critically important\, with a statewide referendum in November to amend the Constitution and enshrine virtually unlimited abortion up to birth.&nbsp\; It would also jeopardize Virginia’s parental consent law\, health and safety standards for women\, conscience protections for healthcare providers\, and restrictions on taxpayer-funded abortions. &nbsp\;Find more details on the proposed amendment here.\n\n\n\nLearn about TFCA’s Pro-Life Ministry here.
URL:https://tfcanglican.org/events/virginia-march-for-life/
END:VEVENT
END:VCALENDAR
