BEGIN:VCALENDAR
VERSION:2.0
PRODID:-//tfcanglican.org//EN
CALSCALE:GREGORIAN
METHOD:PUBLISH
BEGIN:VEVENT
UID:20000@tfcanglican.org
DTSTAMP:20260420T083830Z
DTSTART;TZID=America/New_York:20260324T190000
DTEND;TZID=America/New_York:20260324T204500
SUMMARY:Evening of Healing Prayer
LOCATION:Zoom
DESCRIPTION:Looking for the Lord to show up? Sign up for an online 45-minute prayer appointment with a trained prayer team. Evening of Healing Prayer occurs every fourth Tuesday of the month with appointments at 7 and 8 p.m. Contact Scott Thompson for more information and to request an appointment.
URL:https://tfcanglican.org/events/evening-of-healing-prayer/
END:VEVENT
END:VCALENDAR
