BEGIN:VCALENDAR
VERSION:2.0
PRODID:-//tfcanglican.org//EN
CALSCALE:GREGORIAN
METHOD:PUBLISH
BEGIN:VEVENT
UID:20261@tfcanglican.org
DTSTAMP:20260425T205058Z
DTSTART;TZID=America/New_York:20260318T123000
DTEND;TZID=America/New_York:20260318T134500
SUMMARY:Wednesday Body &#038\; Soul Gold (In-Person &#038\; Virtual)
LOCATION:Ministry Center (basement level of office building)
DESCRIPTION:Body and Soul Gold is a Christian fitness ministry targeting seniors and those with balance or mobility issues. Exercise in a seat or standing position to increase your heart rate\, flexibility\, strength\, and balance. Taught by a Certified Group Fitness Instructor. Body and Soul also meets on Mondays\, 10:30 a.m.-12:45 p.m.
URL:https://tfcanglican.org/events/wednesday-body-soul-gold-in-person-virtual/
END:VEVENT
END:VCALENDAR
