BEGIN:VCALENDAR
VERSION:2.0
PRODID:-//tfcanglican.org//EN
CALSCALE:GREGORIAN
METHOD:PUBLISH
BEGIN:VEVENT
UID:21731@tfcanglican.org
DTSTAMP:20260420T050818Z
DTSTART;TZID=America/New_York:20260513T190000
DTEND;TZID=America/New_York:20260513T203000
SUMMARY:Anglicans for Life: Seeking God&#8217\;s Wisdom for Virginia
DESCRIPTION:TFCA’s Anglicans for Life chapter is hosting a time for prayer\, learning\, and conversation on the proposed "Fundamental Right to Reproductive Freedom" Amendment in Virginia.&nbsp\;\n\n\n\nLater this year\, Virginians will vote on a proposed amendment to the Virginia Constitution which raises important questions about human life\, care for women and families\, and public policy.&nbsp\;\n\n\n\nPlease join us May 13 to learn more about the amendment and reflect in how Christians can respond faithfully.&nbsp\; Please register in advance\, although&nbsp\;walk-ins&nbsp\;are welcome.&nbsp\;&nbsp\;\n\n\n\nPlease note\, although the event begins at 7\, we will begin gathering at 6:30.&nbsp\; Feel free to come when able!&nbsp\;
URL:https://tfcanglican.org/events/anglicans-for-life-seeking-gods-wisdom-for-virginia/
END:VEVENT
END:VCALENDAR
