BEGIN:VCALENDAR
VERSION:2.0
PRODID:-//tfcanglican.org//EN
CALSCALE:GREGORIAN
METHOD:PUBLISH
BEGIN:VEVENT
UID:21781@tfcanglican.org
DTSTAMP:20260420T032623Z
DTSTART;TZID=America/New_York:20260622T090000
DTEND;TZID=America/New_York:20260626T120000
SUMMARY:Vacation Bible School
LOCATION:Sanctuary Building- Lower Narthex
DESCRIPTION:Welcome to Illumination Station\,&nbsp\;Where We Shine a Light on Who Jesus Really Is\n\n\n\nYou're invited to the brightest week of the year! While many people claim to know about Jesus\, too many are still in the dark about who He truly is. At Illumination Station\, kids will discover all the ways light brightens\, illuminates\, reflects\, and reveals — and meet the One who is the Light of the world.\n\n\n\nEvent Details\n\n\n\nJoin us June 22–26 from 9:00 AM – 12:00 PM as we explore\, create\, and shine bright together.\n\n\n\n\nLocation: TFCA Lower Narthex / Car Line Check-In\n\n\n\nRegistration: $45 per child | $90 family maximum (same household)\n\n\n\nAges: Potty-trained 3-year-olds through rising 5th graders\n\n\n\nChildcare: Available for children under three for on-site volunteers
URL:https://tfcanglican.org/events/vacation-bible-school/
END:VEVENT
END:VCALENDAR
