BEGIN:VCALENDAR
VERSION:2.0
PRODID:-//tfcanglican.org//EN
CALSCALE:GREGORIAN
METHOD:PUBLISH
BEGIN:VEVENT
UID:21849@tfcanglican.org
DTSTAMP:20260422T122015Z
DTSTART;TZID=America/New_York:20260508T190000
DTEND;TZID=America/New_York:20260508T190000
SUMMARY:Healing Service for Infant Loss
LOCATION:Sanctuary
DESCRIPTION:Join us in the sanctuary for a time of worship\, corporate prayer\, and individual prayer at our Healing Service for Infant Loss on Friday\, May 8. \n\n\n\nWe are very glad to welcome the Rev. Kathleen Christopher\, Executive Director of Christian Healing Institute as our guest speaker for the evening.\n\n\n\nChildcare\n\n\n\nChildcare is available through our Children’s &amp\; Family Ministry with advance registration for families. Please click here for childcare registration.\n\n\n\nNo additional registration is required to attend the service.\n\n\n\nService Details\n\n\n\nWe welcome all desiring&nbsp\;prayer\, even if your prayer needs are unrelated to infant loss. If you\, a family member\, or a friend have experienced miscarriage\, abortion\,&nbsp\;stillbirth&nbsp\;or the early death of a child\, we especially invite you to join us. Everyone will have the&nbsp\;opportunity to receive confidential personal prayer for any prayer&nbsp\;need&nbsp\;at the end of the service.&nbsp\;\n\n\n\n"For the Lamb at the center of the throne&nbsp\;will be their shepherd\; he will lead them to springs of living water.&nbsp\;And God will wipe away every tear from their eyes.”&nbsp\;Rev. 7:17&nbsp\;\n\n\n\nPlease contact&nbsp\;Deborah Eccles&nbsp\;if you have any questions concerning the event.&nbsp\;
URL:https://tfcanglican.org/events/healing-service-for-infant-loss/
END:VEVENT
END:VCALENDAR
