BEGIN:VCALENDAR
VERSION:2.0
PRODID:-//tfcanglican.org//EN
CALSCALE:GREGORIAN
METHOD:PUBLISH
BEGIN:VEVENT
UID:21851@tfcanglican.org
DTSTAMP:20260422T134630Z
DTSTART;TZID=America/New_York:20260603T183000
DTEND;TZID=America/New_York:20260603T200000
SUMMARY:Encouragement for the Season of Grandparenting
LOCATION:Ministry Center (Concourse Level Office Building)
DESCRIPTION:Join us for an equipping evening with Susan Yates as she shares vision and wisdom for building relationships with the next generation in the unique season of grandparenting.\n\n\n\nOpen to grandfathers\, grandmothers\, grand uncles and aunts and all who want to purposefully engage with the younger generations.
URL:https://tfcanglican.org/events/encouragement-for-the-season-of-grandparenting/
END:VEVENT
END:VCALENDAR
