BEGIN:VCALENDAR
VERSION:2.0
PRODID:-//tfcanglican.org//EN
CALSCALE:GREGORIAN
METHOD:PUBLISH
BEGIN:VEVENT
UID:21901@tfcanglican.org
DTSTAMP:20260424T141615Z
DTSTART;TZID=America/New_York:20260517T170000
DTEND;TZID=America/New_York:20260517T190000
SUMMARY:Youth Move-Up Day and End of Year Celebration
DESCRIPTION:Come celebrate an awesome year of youth group with us!  Rising 6th graders are invited to join for their first youth group.
URL:https://tfcanglican.org/events/youth-move-up-day-and-end-of-year-celebration/
END:VEVENT
END:VCALENDAR
