BEGIN:VCALENDAR
VERSION:2.0
PRODID:-//tfcanglican.org//EN
CALSCALE:GREGORIAN
METHOD:PUBLISH
BEGIN:VEVENT
UID:21907@tfcanglican.org
DTSTAMP:20260425T202326Z
DTSTART;TZID=America/New_York:20260622T123000
DTEND;TZID=America/New_York:20260626T153000
SUMMARY:Youth VBS After-Party
DESCRIPTION:6th-12th grade VBS volunteers\, as well as all other middle and high schoolers\, are invited to join the Youth Ministry for fun activities every afternoon after VBS.
URL:https://tfcanglican.org/events/youth-vbs-after-party/
END:VEVENT
END:VCALENDAR
