BEGIN:VCALENDAR
VERSION:2.0
PRODID:-//tfcanglican.org//EN
CALSCALE:GREGORIAN
METHOD:PUBLISH
BEGIN:VEVENT
UID:21908@tfcanglican.org
DTSTAMP:20260425T193025Z
DTSTART;TZID=America/New_York:20260706T090000
DTEND;TZID=America/New_York:20260710T160000
SUMMARY:Fusion Camp
DESCRIPTION:Join the Youth Ministry the week of July 6-10 at our summer day camp for middle school students that "fuses" community service and fun! Each day we will start with a message and quiet time followed by a service project for the TFCA Seniors Ministry\, enjoy lunch together\, and then have an afternoon of awesome activities such as games\, water park\, and/or pool party. We will also spend a full day at Harpers Ferry for rafting\, tubing\, and/or ropes. Camp begins at 9 am and ends at 4 pm each day except for Thursday\, when we will leave at 8 am and return at 6 pm from Harpers Ferry. Rising 6th-8th graders are welcomed as campers\, rising 9th graders as leaders-in-training\, and rising 10th-12thgraders as leaders!
URL:https://tfcanglican.org/events/fusion-camp/
END:VEVENT
END:VCALENDAR
