BEGIN:VCALENDAR
VERSION:2.0
PRODID:-//tfcanglican.org//EN
CALSCALE:GREGORIAN
METHOD:PUBLISH
BEGIN:VEVENT
UID:6836@tfcanglican.org
DTSTAMP:20260423T134138Z
DTSTART;TZID=America/New_York:20251013T170000
DTEND;TZID=America/New_York:20251013T180000
SUMMARY:Evening Prayer
LOCATION:TEAMS
DESCRIPTION:During Evening Prayer\, we come together through the liturgy to praise\, give thanks\, and make supplications to God for needs of ourselves\, our families\, our Evening Prayer group\, our church\, our diocese\, our country\, and the world. Come join us as we focus on Jesus Christ and his gift to us of Himself.
URL:https://tfcanglican.org/events/evening-prayer/
END:VEVENT
END:VCALENDAR
