BEGIN:VCALENDAR
VERSION:2.0
PRODID:-//tfcanglican.org//EN
CALSCALE:GREGORIAN
METHOD:PUBLISH
BEGIN:VEVENT
UID:6841@tfcanglican.org
DTSTAMP:20260423T152252Z
DTSTART;TZID=America/New_York:20250320T093000
DTEND;TZID=America/New_York:20250320T110000
SUMMARY:Seniors Breakfast at the Original Pancake House (most third Thursdays)
LOCATION:7395 Lee Hwy\, Falls Church
DESCRIPTION:Join us for food\, fellowship and a special speaker.
URL:https://tfcanglican.org/events/seniors-breakfast-at-the-original-pancake-house-most-third-thursdays/
END:VEVENT
END:VCALENDAR
