BEGIN:VCALENDAR
VERSION:2.0
PRODID:-//tfcanglican.org//EN
CALSCALE:GREGORIAN
METHOD:PUBLISH
BEGIN:VEVENT
UID:6846@tfcanglican.org
DTSTAMP:20260425T113423Z
DTSTART;TZID=America/New_York:20251008T190000
DTEND;TZID=America/New_York:20251008T210000
SUMMARY:Men&#8217\;s Fireside Chat
LOCATION:Ministry Center (Concourse/basement level of office bldg)
DESCRIPTION:Join us as we kick off a new year of Men’s Ministry with our first Fireside Chat of the Fall! We’ll gather in the Ministry Center at 7 pm for Chick-fil-A\, a short program\, and rich conversation. The evening will conclude with fellowship around the fire pit out back. See you there! \n\nPlease register ahead to help ensure plenty of food for all!
URL:https://tfcanglican.org/events/mens-fireside-chat/
END:VEVENT
END:VCALENDAR
