BEGIN:VCALENDAR
VERSION:2.0
PRODID:-//tfcanglican.org//EN
CALSCALE:GREGORIAN
METHOD:PUBLISH
BEGIN:VEVENT
UID:6859@tfcanglican.org
DTSTAMP:20260422T135827Z
DTSTART;TZID=America/New_York:20251121T000000
DTEND;TZID=America/New_York:20251124T000000
SUMMARY:Choose Oneness for Your Marriage with a &#8220\;Weekend to Remember&#8221\;
DESCRIPTION:Invest in your marriage with "Weekend to Remember"\, a marriage getaway with Family Life Today. Appropriate for couples in all stages of marriage. Reston\, VA\, April 25–27. Discount code for conference: thefallschurch. Discounted hotel rates through registration or commute to Reston from home. Williamsburg\, VA conference November 21-23.\n\nFor more information and to register\, visit https://www.familylife.com/weekend-to-remember/
URL:https://tfcanglican.org/events/choose-oneness-for-your-marriage-with-a-weekend-to-remember/
END:VEVENT
END:VCALENDAR
