BEGIN:VCALENDAR
VERSION:2.0
PRODID:-//tfcanglican.org//EN
CALSCALE:GREGORIAN
METHOD:PUBLISH
BEGIN:VEVENT
UID:6860@tfcanglican.org
DTSTAMP:20260422T122408Z
DTSTART;TZID=America/New_York:20251122T113000
DTEND;TZID=America/New_York:20251122T133000
SUMMARY:Friendsgiving Lunch
LOCATION:Ministry Center
DESCRIPTION:Save the Date! Friendsgiving - the Thanksgiving meal we share with our friends. Join us as we eat and fellowship with the 20's & 30's group. Registration to open the beginning of November.
URL:https://tfcanglican.org/events/friendsgiving-lunch/
END:VEVENT
END:VCALENDAR
