BEGIN:VCALENDAR
VERSION:2.0
PRODID:-//tfcanglican.org//EN
CALSCALE:GREGORIAN
METHOD:PUBLISH
BEGIN:VEVENT
UID:6861@tfcanglican.org
DTSTAMP:20260422T104051Z
DTSTART;TZID=America/New_York:20251218T130000
DTEND;TZID=America/New_York:20251218T153000
SUMMARY:Piano Concert by Raffi Kasparian: &#8220\;Tones Through Time: A Musical Odyssey&#8221\;\, followed by a Christmas Tea
LOCATION:Concert in the Sanctuary followed by tea in the lower Narthex
DESCRIPTION:Save the Date! Join us in the Sanctuary for a piano concert by Raffi Kasparian\, followed by a Christmas Tea in the Narthex. Registration to open mid-November.
URL:https://tfcanglican.org/events/piano-concert-by-raffi-kasparian-tones-through-time-a-musical-odyssey-followed-by-a-christmas-tea/
END:VEVENT
END:VCALENDAR
