BEGIN:VCALENDAR
VERSION:2.0
PRODID:-//tfcanglican.org//EN
CALSCALE:GREGORIAN
METHOD:PUBLISH
BEGIN:VEVENT
UID:6866@tfcanglican.org
DTSTAMP:20260423T101828Z
DTSTART;TZID=America/New_York:20251001T190000
DTEND;TZID=America/New_York:20260415T210000
SUMMARY:Wholeness in Christ: Healing Prayer Class
LOCATION:ZOOM
DESCRIPTION:Seeking to deepen your relationship with Christ? Praying for healing and transformation\, for yourself or others? Join the Wholeness in Christ class\, now in its 20th year. This class facilitates believers to grow in confidence and skill as they pray for physical\, emotional\, and spiritual healing for both others and themselves.\n\nThe Wholeness in Christ class will feature live teachings\, videos\, guided exercises\, and hands-on small group practice. It is offered via Zoom by one of TFCA’s ministry partners\, Christian Healing Institute.
URL:https://tfcanglican.org/events/wholeness-in-christ-healing-prayer-class/
END:VEVENT
END:VCALENDAR
