BEGIN:VCALENDAR
VERSION:2.0
PRODID:-//tfcanglican.org//EN
CALSCALE:GREGORIAN
METHOD:PUBLISH
BEGIN:VEVENT
UID:6869@tfcanglican.org
DTSTAMP:20260423T102324Z
DTSTART;TZID=America/New_York:20251008T070000
DTEND;TZID=America/New_York:20251218T080000
SUMMARY:20s &#038\; 30s Thursday Morning Bible Study
LOCATION:Cranmer Chapel
DESCRIPTION:This Fall\, study Paul's letter to the Philippians with fellow 20s and 30s\, starting Thursday\, September 11th through Thursday\, December 18th meeting in Cranmer Chapel at 7 a.m.
URL:https://tfcanglican.org/events/20s-30s-thursday-morning-bible-study/
END:VEVENT
END:VCALENDAR
