BEGIN:VCALENDAR
VERSION:2.0
PRODID:-//tfcanglican.org//EN
CALSCALE:GREGORIAN
METHOD:PUBLISH
BEGIN:VEVENT
UID:6870@tfcanglican.org
DTSTAMP:20260421T142346Z
DTSTART;TZID=America/New_York:20260115T094500
DTEND;TZID=America/New_York:20260507T114500
SUMMARY:Thursday Morning Women&#8217\;s Bible Study with Childcare
LOCATION:Narthex
DESCRIPTION:We are offering the following two studies (click HERE for Bible study descriptions):\n\nBecoming Women of Influence\n\n 	Option 1: Multigenerational Small Groups (In-person only)\n 	Option 2: "Babes with Babes" Small Groups -- for moms of preschoolers and younger children who would like more mentoring at this stage of life. (In-person only)\n\n2 Corinthians Study led by Ivana Rix - (Virtual and In-Person Options)\n\nWithin the registration\, please select from the following registration types:\n\n 	Adult Registration: Becoming Women of Influence\n 	Adult Registration: Babes with Babes: Becoming Women of Influence\n 	Adult Registration: 2 Corinthians\n\nCHILDCARE REGISTRATION INFORMATION:\n\nChildcare is available on Thursday mornings\, but you MUST register your children within this registration. Please use your REALM account to register so that your correct profile information will automatically populate your registration fields.\n\nFor those registering children\, click on child’s name and select "Childcare Registration" as the registration that corresponds to the child’s age group based on his/her age as of September 30\, 2025. You will be asked a series of questions pertaining to each child registered. If you do not have a REALM account\, please contact our Database Specialist.\n\nIf you find that your desired Childcare Registration group is already full\, please click HERE to be added to a waitlist.\n\nMATERIALS AND COSTS:\n\nBible Study Guide Costs:\n\nBecoming Women of Influence- $20\n\n2 Corinthians by N. T Wright - purchase separately through your preferred retailer\n\nScholarships are available! Please email Anne Fitzpatrick for more information before registering.
URL:https://tfcanglican.org/events/thursday-morning-womens-bible-study-with-childcare/
END:VEVENT
END:VCALENDAR
