BEGIN:VCALENDAR
VERSION:2.0
PRODID:-//tfcanglican.org//EN
CALSCALE:GREGORIAN
METHOD:PUBLISH
BEGIN:VEVENT
UID:6871@tfcanglican.org
DTSTAMP:20260424T172024Z
DTSTART;TZID=America/New_York:20260115T180000
DTEND;TZID=America/New_York:20260507T210000
SUMMARY:Thursday Evening Women&#8217\;s Bible Study
DESCRIPTION:Join women seeking to know and follow Jesus and encouraging one another in faith and life as we gather weekly for worship\, teaching\, testimony and small group discussion with prayer.\n\nWhen: September 18 - November 20\, 2025 and January 15\, 2025 - May 7\, 2026\n\nTime (In-Person and Online options below):\n\n 	6:00pm - 8:15pm (In-Person Only) This group will start with bringing your own dinner and small group time. We will then join the on-line group for announcements and teaching.\n 	7:15pm - 9:00pm (In-Person Only) You will join the on-line group for announcements and teaching\, with in-person small group time to follow. No dinner.\n 	7:15pm - 9:00pm (On-Line Only) You will join the in-person group for announcements and teaching\, with virtual small group time to follow.\n\nWhat: Becoming Women of Influence\n\nYear-long study using Creative Living International study guide on 17 Old Testament women\, including Rachel\, Deborah\, Delilah\, Abigail and Bathsheba\, and seven New Testament women such as Mary Magdalene\, Phoebe and Herodias.\nTotal Materials Cost: $20\n\n 	$20 - Creative Living International study guide\n\nScholarships are available! We never want costs to be a barrier to participation. Please contact Anne Fitzpatrick for more information before registering.
URL:https://tfcanglican.org/events/thursday-evening-womens-bible-study/
END:VEVENT
END:VCALENDAR
