BEGIN:VCALENDAR
VERSION:2.0
PRODID:-//tfcanglican.org//EN
CALSCALE:GREGORIAN
METHOD:PUBLISH
BEGIN:VEVENT
UID:6872@tfcanglican.org
DTSTAMP:20260424T183514Z
DTSTART;TZID=America/New_York:20251008T093000
DTEND;TZID=America/New_York:20251008T113000
SUMMARY:Saturday Morning Women&#8217\;s Ministry Bible Study
LOCATION:Learning Center Room 110
DESCRIPTION:Come join the Saturday AM women’s study for another enriching\, hope-filled\, God-centered study! This fall\, June Johnson will lead the group through HeBrews: A Better Blend by Leah C. Adams.\n\nAbout the study: This eight-week in-depth study has daily readings along with questions to be addressed to help us unpack and understand the richness of the Book of Hebrews as its (unknown) author focuses on Jesus and what He did for you and me. As constructed\, our study’s author Leah Adams compares and contrasts teachings of the Old Testament with the teachings of our Lord Jesus for us to together discover how Christ has fulfilled the old Law and given us something so much BETTER! Leah peels back the layers of Hebrews in a way that makes us thirsty for a greater understanding of God’s Word and a deeper faith in Him.\n\nMaterials and Costs:. Purchase your study guide for $15.99: HeBrews: A Better Blend\, an 8-week Bible Study of Hebrews by Leah C. Adams \n\nAvailable at Amazon and Christianbook.com.\n\nScholarships are available!  Please email Anne Fitzpatrick for more information before registering.
URL:https://tfcanglican.org/events/saturday-morning-womens-ministry-bible-study/
END:VEVENT
END:VCALENDAR
